BEGIN:VCALENDAR
VERSION:2.0
PRODID:-//hacksw/handcal//NONSGML v1.0//EN
BEGIN:VEVENT
SUMMARY:CHARTRES - USC
UID:fc8c53bf-f569-4a16-b65d-c821269beb03
DTSTART:20260417T183000Z
DTEND:20260417T203000Z
LOCATION:Localisation   
CATEGORIES:Sportif
STATUS:
URL;VALUE=URI:https://us-corps-nuds.sportsregions.fr/evenements/2026/04/17/chartres-usc-2442210
END:VEVENT
END:VCALENDAR
