BEGIN:VCALENDAR
VERSION:2.0
PRODID:-//hacksw/handcal//NONSGML v1.0//EN
BEGIN:VEVENT
SUMMARY:USC - CHAVAGNE
UID:3af8ad5f-25e4-4d4e-a301-a12fb5d52fd3
DTSTART:20260403T184500Z
DTEND:20260403T204500Z
LOCATION:Localisation   
CATEGORIES:Sportif
STATUS:
URL;VALUE=URI:https://us-corps-nuds.sportsregions.fr/evenements/2026/04/03/usc-chavagne-2437843
END:VEVENT
END:VCALENDAR
