BEGIN:VCALENDAR
VERSION:2.0
PRODID:-//hacksw/handcal//NONSGML v1.0//EN
BEGIN:VEVENT
SUMMARY:REN. CPB VILLEJEAN
UID:494d1c07-2f02-4e9f-967b-d8b108d306b5
DTSTART:20260327T200000Z
DTEND:20260327T220000Z
LOCATION:Localisation   
CATEGORIES:Sportif
STATUS:
URL;VALUE=URI:https://us-corps-nuds.sportsregions.fr/evenements/2026/03/27/ren-cpb-villejean-2437842
END:VEVENT
END:VCALENDAR
