BEGIN:VCALENDAR
VERSION:2.0
PRODID:-//hacksw/handcal//NONSGML v1.0//EN
BEGIN:VEVENT
SUMMARY:USC - MORDELLES B
UID:151b8469-a550-4d96-ada8-05908be5ab65
DTSTART:20251114T193000Z
DTEND:20251114T213000Z
LOCATION:Localisation   
CATEGORIES:Sportif
STATUS:
URL;VALUE=URI:https://us-corps-nuds.sportsregions.fr/evenements/2025/11/14/usc-mordelles-b-2363089
END:VEVENT
END:VCALENDAR
